BEGIN:VCALENDAR
VERSION:2.0
PRODID:-//TAC School
CALSCALE:GREGORIAN
METHOD:PUBLISH
X-WR-CALNAME:TAC School
X-ORIGINAL-URL:https://www.tacschool.in/product/good-friday-holiday/
X-WR-CALDESC:Good Friday ( Holiday)
BEGIN:VEVENT
DTSTART;TZID=Europe/London:20230407T000000
DTEND;TZID=Europe/London:20230407T000000
SUMMARY:Good Friday ( Holiday)
DESCRIPTION:
URL:https://www.tacschool.in/product/good-friday-holiday/
LOCATION:
END:VEVENT
END:VCALENDAR
