BEGIN:VCALENDAR
VERSION:2.0
PRODID:-//TAC School
CALSCALE:GREGORIAN
METHOD:PUBLISH
X-WR-CALNAME:TAC School
X-ORIGINAL-URL:https://www.tacschool.in/product/summative-assessment-i/
X-WR-CALDESC:Summative Assessment I
BEGIN:VEVENT
DTSTART;TZID=Europe/London:20231003T000000
DTEND;TZID=Europe/London:20231012T000000
SUMMARY:Summative Assessment I
DESCRIPTION:
URL:https://www.tacschool.in/product/summative-assessment-i/
LOCATION:
END:VEVENT
END:VCALENDAR
