BEGIN:VCALENDAR
VERSION:2.0
PRODID:-//TAC School
CALSCALE:GREGORIAN
METHOD:PUBLISH
X-WR-CALNAME:TAC School
X-ORIGINAL-URL:https://www.tacschool.in/product/agomoni-saradiya-udjyapan/
X-WR-CALDESC:Agomoni (Saradiya) Udjyapan
BEGIN:VEVENT
DTSTART;TZID=Europe/London:20231018T000000
DTEND;TZID=Europe/London:20231018T000000
SUMMARY:Agomoni (Saradiya) Udjyapan
DESCRIPTION:
URL:https://www.tacschool.in/product/agomoni-saradiya-udjyapan/
LOCATION:
END:VEVENT
END:VCALENDAR
